BEGIN:VCALENDAR
VERSION:2.0
PRODID:-//ATI | Advanced Technology International - ECPv6.15.18//NONSGML v1.0//EN
CALSCALE:GREGORIAN
METHOD:PUBLISH
X-WR-CALNAME:ATI | Advanced Technology International
X-ORIGINAL-URL:https://www.ati.org
X-WR-CALDESC:Events for ATI | Advanced Technology International
REFRESH-INTERVAL;VALUE=DURATION:PT1H
X-Robots-Tag:noindex
X-PUBLISHED-TTL:PT1H
BEGIN:VTIMEZONE
TZID:America/New_York
BEGIN:DAYLIGHT
TZOFFSETFROM:-0500
TZOFFSETTO:-0400
TZNAME:EDT
DTSTART:20250309T070000
END:DAYLIGHT
BEGIN:STANDARD
TZOFFSETFROM:-0400
TZOFFSETTO:-0500
TZNAME:EST
DTSTART:20251102T060000
END:STANDARD
BEGIN:DAYLIGHT
TZOFFSETFROM:-0500
TZOFFSETTO:-0400
TZNAME:EDT
DTSTART:20260308T070000
END:DAYLIGHT
BEGIN:STANDARD
TZOFFSETFROM:-0400
TZOFFSETTO:-0500
TZNAME:EST
DTSTART:20261101T060000
END:STANDARD
BEGIN:DAYLIGHT
TZOFFSETFROM:-0500
TZOFFSETTO:-0400
TZNAME:EDT
DTSTART:20270314T070000
END:DAYLIGHT
BEGIN:STANDARD
TZOFFSETFROM:-0400
TZOFFSETTO:-0500
TZNAME:EST
DTSTART:20271107T060000
END:STANDARD
END:VTIMEZONE
BEGIN:VEVENT
DTSTART;VALUE=DATE:20260818
DTEND;VALUE=DATE:20260821
DTSTAMP:20260419T134154
CREATED:20260417T113347Z
LAST-MODIFIED:20260417T113347Z
UID:10000293-1787011200-1787270399@www.ati.org
SUMMARY:ATI: FedSupernova 2026
DESCRIPTION:Join ATI at Fed Supernova that connects entrepreneurs\, Government\, and industry together to collaborate on dual-use solutions that put commercial technology in the hands of the Department of War\, DoW. This 3-day event accelerates defense innovation by creating a unique\, once-a-year opportunity for the entire ecosystem to converge with a shared mission in the hottest innovation hub in the country.
URL:https://www.ati.org/event/ati-fedsupernova-2026/
LOCATION:Capital Factory\, 701 Brazos Street\, Austin\, TX\, 78701\, United States
CATEGORIES:In Person
ATTACH;FMTTYPE=image/png:https://www.ati.org/wp-content/uploads/2025/01/ATI-website-logo.png
ORGANIZER;CN="ATI":MAILTO:info@ati.org
END:VEVENT
END:VCALENDAR