BEGIN:VCALENDAR
VERSION:2.0
PRODID:-//ATI | Advanced Technology International - ECPv6.15.18//NONSGML v1.0//EN
CALSCALE:GREGORIAN
METHOD:PUBLISH
X-ORIGINAL-URL:https://www.ati.org
X-WR-CALDESC:Events for ATI | Advanced Technology International
REFRESH-INTERVAL;VALUE=DURATION:PT1H
X-Robots-Tag:noindex
X-PUBLISHED-TTL:PT1H
BEGIN:VTIMEZONE
TZID:America/New_York
BEGIN:DAYLIGHT
TZOFFSETFROM:-0500
TZOFFSETTO:-0400
TZNAME:EDT
DTSTART:20250309T070000
END:DAYLIGHT
BEGIN:STANDARD
TZOFFSETFROM:-0400
TZOFFSETTO:-0500
TZNAME:EST
DTSTART:20251102T060000
END:STANDARD
BEGIN:DAYLIGHT
TZOFFSETFROM:-0500
TZOFFSETTO:-0400
TZNAME:EDT
DTSTART:20260308T070000
END:DAYLIGHT
BEGIN:STANDARD
TZOFFSETFROM:-0400
TZOFFSETTO:-0500
TZNAME:EST
DTSTART:20261101T060000
END:STANDARD
BEGIN:DAYLIGHT
TZOFFSETFROM:-0500
TZOFFSETTO:-0400
TZNAME:EDT
DTSTART:20270314T070000
END:DAYLIGHT
BEGIN:STANDARD
TZOFFSETFROM:-0400
TZOFFSETTO:-0500
TZNAME:EST
DTSTART:20271107T060000
END:STANDARD
END:VTIMEZONE
BEGIN:VEVENT
DTSTART;VALUE=DATE:20260505
DTEND;VALUE=DATE:20260509
DTSTAMP:20260419T115425
CREATED:20260417T115037Z
LAST-MODIFIED:20260417T115037Z
UID:10000289-1777939200-1778284799@www.ati.org
SUMMARY:ATI: 2026 Air Force Modeling\, Simulation\, & Analytics Summit
DESCRIPTION:Join ATI for this event by the Department of the Air Force (DAF)\, Director of Studies and Analysis (SAF/SA)\, and Chief Modeling and Simulation Officer (CMSO) in partnership with the Space Training and Readiness Command (STARCOM)\, are hosting the 2026 Department of the Air Force Modeling\, Simulation & Analytics (DAFMSA) Summit. \nThe goal of the DAFMSA Summit is to gather Air Force and Space Force modeling\, simulation\, and analytics (MS&A) experts to learn about new MS&A initiatives and techniques\, network across military services and with industry experts\, and to hear our technological leaders’ perspectives on how MS&A can transition more training from the real world to digital. The 2026 Summit will provide a forum for shared information\, ideas\, and connection of MS&A professionals across the DoW\, industry\, academia\, and international partners.
URL:https://www.ati.org/event/ati-2026-air-force-modeling-simulation-analytics-summit/
LOCATION:Colorado Springs\, Colorado Springs\, CO\, United States
CATEGORIES:In Person
ATTACH;FMTTYPE=image/png:https://www.ati.org/wp-content/uploads/2025/01/ATI-website-logo.png
ORGANIZER;CN="ATI":MAILTO:info@ati.org
END:VEVENT
END:VCALENDAR