BEGIN:VCALENDAR
VERSION:2.0
PRODID:-//ATI | Advanced Technology International - ECPv6.15.18//NONSGML v1.0//EN
CALSCALE:GREGORIAN
METHOD:PUBLISH
X-WR-CALNAME:ATI | Advanced Technology International
X-ORIGINAL-URL:https://www.ati.org
X-WR-CALDESC:Events for ATI | Advanced Technology International
REFRESH-INTERVAL;VALUE=DURATION:PT1H
X-Robots-Tag:noindex
X-PUBLISHED-TTL:PT1H
BEGIN:VTIMEZONE
TZID:America/New_York
BEGIN:DAYLIGHT
TZOFFSETFROM:-0500
TZOFFSETTO:-0400
TZNAME:EDT
DTSTART:20250309T070000
END:DAYLIGHT
BEGIN:STANDARD
TZOFFSETFROM:-0400
TZOFFSETTO:-0500
TZNAME:EST
DTSTART:20251102T060000
END:STANDARD
BEGIN:DAYLIGHT
TZOFFSETFROM:-0500
TZOFFSETTO:-0400
TZNAME:EDT
DTSTART:20260308T070000
END:DAYLIGHT
BEGIN:STANDARD
TZOFFSETFROM:-0400
TZOFFSETTO:-0500
TZNAME:EST
DTSTART:20261101T060000
END:STANDARD
BEGIN:DAYLIGHT
TZOFFSETFROM:-0500
TZOFFSETTO:-0400
TZNAME:EDT
DTSTART:20270314T070000
END:DAYLIGHT
BEGIN:STANDARD
TZOFFSETFROM:-0400
TZOFFSETTO:-0500
TZNAME:EST
DTSTART:20271107T060000
END:STANDARD
END:VTIMEZONE
BEGIN:VEVENT
DTSTART;VALUE=DATE:20260726
DTEND;VALUE=DATE:20260730
DTSTAMP:20260419T115819
CREATED:20260417T113935Z
LAST-MODIFIED:20260417T113935Z
UID:10000292-1785024000-1785369599@www.ati.org
SUMMARY:ATI: National Contract Management Association World Congress 2026
DESCRIPTION:Join ATI at the largest and most comprehensive gathering of contract management professionals\, NCMA World Congress is where the contract workforce from every sector and career stage\, comes together to prepare for what’s next. \nRegulations are being overhauled. AI is transforming the field. Supply chains are shifting. At World Congress\, attendees gain the skills\, insights\, and partnerships needed to navigate and lead through this complexity. \nThis event delivers timely content\, relevant to buyers and sellers\, from Government leaders\, Industry experts\, Policymakers and more. The program is designed to provide information in many ways—through keynote presentations\, in-depth discussions\, updates on the latest industry trends\, and hands-on learning experiences. \nWhether you’re looking to upskill to improve your impact\, explore cutting-edge tools\, make professional connections or navigate through change\, World Congress is the place to be. Coming together has never been more critical to our shared success.
URL:https://www.ati.org/event/ati-national-contract-management-association-world-congress-2026/
LOCATION:Swan and Dolphin Hotel\, Orlando\, FL\, United States
CATEGORIES:In Person
ATTACH;FMTTYPE=image/png:https://www.ati.org/wp-content/uploads/2025/01/ATI-website-logo.png
ORGANIZER;CN="ATI":MAILTO:info@ati.org
END:VEVENT
END:VCALENDAR