BEGIN:VCALENDAR
VERSION:2.0
PRODID:-//ATI | Advanced Technology International - ECPv6.15.18//NONSGML v1.0//EN
CALSCALE:GREGORIAN
METHOD:PUBLISH
X-ORIGINAL-URL:https://www.ati.org
X-WR-CALDESC:Events for ATI | Advanced Technology International
REFRESH-INTERVAL;VALUE=DURATION:PT1H
X-Robots-Tag:noindex
X-PUBLISHED-TTL:PT1H
BEGIN:VTIMEZONE
TZID:America/New_York
BEGIN:DAYLIGHT
TZOFFSETFROM:-0500
TZOFFSETTO:-0400
TZNAME:EDT
DTSTART:20250309T070000
END:DAYLIGHT
BEGIN:STANDARD
TZOFFSETFROM:-0400
TZOFFSETTO:-0500
TZNAME:EST
DTSTART:20251102T060000
END:STANDARD
BEGIN:DAYLIGHT
TZOFFSETFROM:-0500
TZOFFSETTO:-0400
TZNAME:EDT
DTSTART:20260308T070000
END:DAYLIGHT
BEGIN:STANDARD
TZOFFSETFROM:-0400
TZOFFSETTO:-0500
TZNAME:EST
DTSTART:20261101T060000
END:STANDARD
BEGIN:DAYLIGHT
TZOFFSETFROM:-0500
TZOFFSETTO:-0400
TZNAME:EDT
DTSTART:20270314T070000
END:DAYLIGHT
BEGIN:STANDARD
TZOFFSETFROM:-0400
TZOFFSETTO:-0500
TZNAME:EST
DTSTART:20271107T060000
END:STANDARD
END:VTIMEZONE
BEGIN:VEVENT
DTSTART;VALUE=DATE:20260518
DTEND;VALUE=DATE:20260522
DTSTAMP:20260421T090539
CREATED:20260420T180734Z
LAST-MODIFIED:20260420T180734Z
UID:10000291-1779062400-1779407999@www.ati.org
SUMMARY:ATI: SOF Week 2026
DESCRIPTION:Join ATI at SOF Week\, that brings the international Special Operations community together for one focused week of collaboration\, learning\, and capability development. Jointly supported by U.S. Special Operations Command and the Global SOF Foundation\, the event serves as the central gathering point for SOF Operators\, government leaders\, and industry partners working to advance the mission.
URL:https://www.ati.org/event/ati-sof-week-2026/
LOCATION:Tampa\, Florida\, Tampa\, FL\, United States
CATEGORIES:In Person
ATTACH;FMTTYPE=image/png:https://www.ati.org/wp-content/uploads/2025/01/ATI-website-logo.png
ORGANIZER;CN="ATI":MAILTO:info@ati.org
END:VEVENT
END:VCALENDAR